BEGIN:VCALENDAR
VERSION:2.0
PRODID:-//Plone.org//NONSGML plone.app.event//EN
X-WR-TIMEZONE:Europe/Madrid
BEGIN:VEVENT
SUMMARY:Reunió de Recursos Humans i Policia Local
DTSTART;TZID=Europe/Madrid;VALUE=DATE-TIME:20220207T090000
DTEND;TZID=Europe/Madrid;VALUE=DATE-TIME:20220207T100000
DTSTAMP;VALUE=DATE-TIME:20260420T135758Z
UID:b38401e92f0a384988e60cbb65bd0875
CREATED;VALUE=DATE-TIME:20220207T000000Z
CATEGORIES:Agenda institucional
LOCATION:Sala annexa Alcaldia
URL:https://www.canetdemar.cat/document.php?id=22615
END:VEVENT
END:VCALENDAR