BEGIN:VCALENDAR
VERSION:2.0
PRODID:-//Plone.org//NONSGML plone.app.event//EN
X-WR-TIMEZONE:Europe/Madrid
BEGIN:VEVENT
SUMMARY:Reunió amb els responsables d'organització de la brigada
DTSTART;TZID=Europe/Madrid;VALUE=DATE-TIME:20220204T080000
DTEND;TZID=Europe/Madrid;VALUE=DATE-TIME:20220204T090000
DTSTAMP;VALUE=DATE-TIME:20260420T054444Z
UID:e53979d5f4fe1e670f7bf8049fcc5f3d
CREATED;VALUE=DATE-TIME:20220204T000000Z
CATEGORIES:Agenda institucional
LOCATION:Nau de la brigada municipal
URL:https://www.canetdemar.cat/document.php?id=22614
END:VEVENT
END:VCALENDAR