BEGIN:VCALENDAR
VERSION:2.0
PRODID:-//Plone.org//NONSGML plone.app.event//EN
X-WR-TIMEZONE:Europe/Madrid
BEGIN:VEVENT
SUMMARY:Trobada amb una veïna de Canet de Mar
DTSTART;TZID=Europe/Madrid;VALUE=DATE-TIME:20220203T100000
DTEND;TZID=Europe/Madrid;VALUE=DATE-TIME:20220203T110000
DTSTAMP;VALUE=DATE-TIME:20260420T101427Z
UID:4c8b5d2119f54832f8d2c9c466906f1c
CREATED;VALUE=DATE-TIME:20220203T000000Z
CATEGORIES:Agenda institucional
LOCATION:Sala annexa Alcaldia
URL:https://www.canetdemar.cat/document.php?id=22612
END:VEVENT
END:VCALENDAR