BEGIN:VCALENDAR
VERSION:2.0
PRODID:-//Plone.org//NONSGML plone.app.event//EN
X-WR-TIMEZONE:Europe/Madrid
BEGIN:VEVENT
SUMMARY:Consell de Governs Locals
DTSTART;TZID=Europe/Madrid;VALUE=DATE-TIME:20220201T160000
DTEND;TZID=Europe/Madrid;VALUE=DATE-TIME:20220201T170000
DTSTAMP;VALUE=DATE-TIME:20260420T085005Z
UID:76a6686f76413997f4240a5b538ed886
CREATED;VALUE=DATE-TIME:20220201T000000Z
CATEGORIES:Agenda institucional
LOCATION:Saló de Cent - Ajuntament de Barcelona
URL:https://www.canetdemar.cat/document.php?id=22609
END:VEVENT
END:VCALENDAR