BEGIN:VCALENDAR
VERSION:2.0
PRODID:-//Plone.org//NONSGML plone.app.event//EN
X-WR-TIMEZONE:Europe/Madrid
BEGIN:VEVENT
SUMMARY:Conte de Sant Jordi: Veus veus espectacles presenten la divertida llegenda de Sant Jordi
DTSTART;TZID=Europe/Madrid;VALUE=DATE-TIME:20220423T113000
DTEND;TZID=Europe/Madrid;VALUE=DATE-TIME:20220423T123000
DTSTAMP;VALUE=DATE-TIME:20260426T033915Z
UID:e8a91feb20bc37da342203da9812d464
CREATED;VALUE=DATE-TIME:20220423T000000Z
CATEGORIES:Infantils
LOCATION:Riera Sant Domènec
ORGANIZER:Biblioteca P. Gual i Pujadas
COMMENT:Preu: Gratuït
URL:https://www.canetdemar.cat/document.php?id=22587
END:VEVENT
END:VCALENDAR