BEGIN:VCALENDAR
VERSION:2.0
PRODID:-//Plone.org//NONSGML plone.app.event//EN
X-WR-TIMEZONE:Europe/Madrid
BEGIN:VEVENT
SUMMARY:Diada de la Maduixa
DTSTART;TZID=Europe/Madrid;VALUE=DATE-TIME:20220430T000000
DTEND;TZID=Europe/Madrid;VALUE=DATE-TIME:20220430T010000
DTSTAMP;VALUE=DATE-TIME:20260424T195055Z
UID:e60b6f1f4318ffce1781aa4771b15a59
CREATED;VALUE=DATE-TIME:20220430T000000Z
LOCATION:carrer Ample i riera Sant Domènec
ORGANIZER:Àrea de Promoció Econòmica, Comerç i Turisme - Ajuntament de Canet de Mar
COMMENT:Durada: De 10h a 21h
URL:https://www.canetdemar.cat/document.php?id=22580
END:VEVENT
END:VCALENDAR