BEGIN:VCALENDAR
VERSION:2.0
PRODID:-//Plone.org//NONSGML plone.app.event//EN
X-WR-TIMEZONE:Europe/Madrid
BEGIN:VEVENT
SUMMARY:Ruta dels indians (americanos) i el cementiri
DTSTART;TZID=Europe/Madrid;VALUE=DATE-TIME:20220409T110000
DTEND;TZID=Europe/Madrid;VALUE=DATE-TIME:20220409T120000
DTSTAMP;VALUE=DATE-TIME:20260425T222955Z
UID:5634f5829eab14490ef432304cc81e92
CREATED;VALUE=DATE-TIME:20220409T000000Z
LOCATION:Punt de trobada : Casa museu Lluís Domènech i Montaner
ORGANIZER:Àrea de Cultura - Ajuntament de Canet de Mar
COMMENT:Preu: 10&euro; (descomptes jubilats, estudiants i carnet de biblioteca 6&euro;)
Durada: 2 hores aprox.
DESCRIPTION:Ruta guiada per conèixer el patrimoni indià de Canet de Mar
URL:https://www.canetdemar.cat/document.php?id=22577
END:VEVENT
END:VCALENDAR