BEGIN:VCALENDAR
VERSION:2.0
PRODID:-//Plone.org//NONSGML plone.app.event//EN
X-WR-TIMEZONE:Europe/Madrid
BEGIN:VEVENT
SUMMARY:Curs d'arts marcials amb patades acrobàtiques de cinema d'acció
DTSTART;TZID=Europe/Madrid;VALUE=DATE-TIME:20220313T110000
DTEND;TZID=Europe/Madrid;VALUE=DATE-TIME:20220313T120000
DTSTAMP;VALUE=DATE-TIME:20260421T160454Z
UID:f8704cfde70faf3182ad2d8d784de025
CREATED;VALUE=DATE-TIME:20220313T000000Z
URL:https://www.canetdemar.cat/document.php?id=22568
END:VEVENT
END:VCALENDAR