BEGIN:VCALENDAR
VERSION:2.0
PRODID:-//Plone.org//NONSGML plone.app.event//EN
X-WR-TIMEZONE:Europe/Madrid
BEGIN:VEVENT
SUMMARY:Teatre: Terapèutic
DTSTART;TZID=Europe/Madrid;VALUE=DATE-TIME:20220409T180000
DTEND;TZID=Europe/Madrid;VALUE=DATE-TIME:20220409T190000
DTSTAMP;VALUE=DATE-TIME:20260424T221016Z
UID:62214eef4c4a8c94941995f0f9f33794
CREATED;VALUE=DATE-TIME:20220409T000000Z
CATEGORIES:Teatre
LOCATION:Sala Centru del TMC
ORGANIZER:Associació artística teatral El Centru
COMMENT:Preu: Entrades per Entràpolis. Taquilla: 8 &euro;, Anticipada: 7 &euro;, Socis del Centru i menors de 14 anys: 5&euro;.
DESCRIPTION:XLVIII CONCURS DE TEATRE AMATEUR PREMI PEDRACASTELL 2022
URL:https://www.canetdemar.cat/document.php?id=22542
END:VEVENT
END:VCALENDAR