BEGIN:VCALENDAR
VERSION:2.0
PRODID:-//Plone.org//NONSGML plone.app.event//EN
X-WR-TIMEZONE:Europe/Madrid
BEGIN:VEVENT
SUMMARY:AKELARRE, de la Cia. The Feliuettes
DTSTART;TZID=Europe/Madrid;VALUE=DATE-TIME:20220226T203000
DTEND;TZID=Europe/Madrid;VALUE=DATE-TIME:20220226T213000
DTSTAMP;VALUE=DATE-TIME:20260424T221522Z
UID:b0dcc99ca04551e6fcb3acad9cd4ff13
CREATED;VALUE=DATE-TIME:20220226T000000Z
CATEGORIES:Teatre
LOCATION:Sala Centru del TMC
DESCRIPTION:Programació temporada inaugural del TMC
URL:https://www.canetdemar.cat/document.php?id=22515
END:VEVENT
END:VCALENDAR