BEGIN:VCALENDAR
VERSION:2.0
PRODID:-//Plone.org//NONSGML plone.app.event//EN
X-WR-TIMEZONE:Europe/Madrid
BEGIN:VEVENT
SUMMARY:Genial monòleg de, PEYU, l'home orquestra
DTSTART;TZID=Europe/Madrid;VALUE=DATE-TIME:20220304T210000
DTEND;TZID=Europe/Madrid;VALUE=DATE-TIME:20220304T220000
DTSTAMP;VALUE=DATE-TIME:20260423T234951Z
UID:5896d8fdabca9c9d8e7bba6778078919
CREATED;VALUE=DATE-TIME:20220304T000000Z
CATEGORIES:Festa
LOCATION:Envelat de Vil·la Flora
DESCRIPTION:Carnaval 2022
URL:https://www.canetdemar.cat/document.php?id=22507
END:VEVENT
END:VCALENDAR