BEGIN:VCALENDAR
VERSION:2.0
PRODID:-//Plone.org//NONSGML plone.app.event//EN
X-WR-TIMEZONE:Europe/Madrid
BEGIN:VEVENT
SUMMARY:Reunió amb un veí del municipi
DTSTART;TZID=Europe/Madrid;VALUE=DATE-TIME:20220131T093000
DTEND;TZID=Europe/Madrid;VALUE=DATE-TIME:20220131T103000
DTSTAMP;VALUE=DATE-TIME:20260420T065725Z
UID:94f90bace6a7d1af0ad9b88b36055ef0
CREATED;VALUE=DATE-TIME:20220131T000000Z
CATEGORIES:Agenda institucional
URL:https://www.canetdemar.cat/document.php?id=22501
END:VEVENT
END:VCALENDAR