BEGIN:VCALENDAR
VERSION:2.0
PRODID:-//Plone.org//NONSGML plone.app.event//EN
X-WR-TIMEZONE:Europe/Madrid
BEGIN:VEVENT
SUMMARY:Reunió treballador Ràdio Canet
DTSTART;TZID=Europe/Madrid;VALUE=DATE-TIME:20220128T120000
DTEND;TZID=Europe/Madrid;VALUE=DATE-TIME:20220128T130000
DTSTAMP;VALUE=DATE-TIME:20260420T102537Z
UID:21679bd4dfe416b684431cae4e089537
CREATED;VALUE=DATE-TIME:20220128T000000Z
CATEGORIES:Agenda institucional
URL:https://www.canetdemar.cat/document.php?id=22500
END:VEVENT
END:VCALENDAR