BEGIN:VCALENDAR
VERSION:2.0
PRODID:-//Plone.org//NONSGML plone.app.event//EN
X-WR-TIMEZONE:Europe/Madrid
BEGIN:VEVENT
SUMMARY:Ple Extraordinari
DTSTART;TZID=Europe/Madrid;VALUE=DATE-TIME:20220127T183000
DTEND;TZID=Europe/Madrid;VALUE=DATE-TIME:20220127T193000
DTSTAMP;VALUE=DATE-TIME:20260425T223345Z
UID:6a2582a150a76b8b5eaaf874e9adf0f6
CREATED;VALUE=DATE-TIME:20220127T000000Z
CATEGORIES:Agenda institucional
URL:https://www.canetdemar.cat/document.php?id=22498
END:VEVENT
END:VCALENDAR