BEGIN:VCALENDAR
VERSION:2.0
PRODID:-//Plone.org//NONSGML plone.app.event//EN
X-WR-TIMEZONE:Europe/Madrid
BEGIN:VEVENT
SUMMARY:Mesa de contractació obres carrer Sant Pere
DTSTART;TZID=Europe/Madrid;VALUE=DATE-TIME:20220127T103000
DTEND;TZID=Europe/Madrid;VALUE=DATE-TIME:20220127T113000
DTSTAMP;VALUE=DATE-TIME:20260420T083720Z
UID:7914f91f8da52295e3f3decb97c0d19a
CREATED;VALUE=DATE-TIME:20220127T000000Z
CATEGORIES:Agenda institucional
URL:https://www.canetdemar.cat/document.php?id=22497
END:VEVENT
END:VCALENDAR