BEGIN:VCALENDAR
VERSION:2.0
PRODID:-//Plone.org//NONSGML plone.app.event//EN
X-WR-TIMEZONE:Europe/Madrid
BEGIN:VEVENT
SUMMARY:Mesa de contractació enllumenat NII
DTSTART;TZID=Europe/Madrid;VALUE=DATE-TIME:20220127T100000
DTEND;TZID=Europe/Madrid;VALUE=DATE-TIME:20220127T110000
DTSTAMP;VALUE=DATE-TIME:20260420T034518Z
UID:f35939f3ac168e6d9f7ced6bf52ed1c3
CREATED;VALUE=DATE-TIME:20220127T000000Z
CATEGORIES:Agenda institucional
URL:https://www.canetdemar.cat/document.php?id=22496
END:VEVENT
END:VCALENDAR