BEGIN:VCALENDAR
VERSION:2.0
PRODID:-//Plone.org//NONSGML plone.app.event//EN
X-WR-TIMEZONE:Europe/Madrid
BEGIN:VEVENT
SUMMARY:Visita Unitat Mòbil de la Policia Local
DTSTART;TZID=Europe/Madrid;VALUE=DATE-TIME:20220126T113000
DTEND;TZID=Europe/Madrid;VALUE=DATE-TIME:20220126T123000
DTSTAMP;VALUE=DATE-TIME:20260420T034433Z
UID:02dee69f2f20e307a109b831012b5e15
CREATED;VALUE=DATE-TIME:20220126T000000Z
CATEGORIES:Agenda institucional
LOCATION:Plaça Mercat - Riera Buscarons amb riera del Pinar
URL:https://www.canetdemar.cat/document.php?id=22494
END:VEVENT
END:VCALENDAR