BEGIN:VCALENDAR
VERSION:2.0
PRODID:-//Plone.org//NONSGML plone.app.event//EN
X-WR-TIMEZONE:Europe/Madrid
BEGIN:VEVENT
SUMMARY:Reunió H2O
DTSTART;TZID=Europe/Madrid;VALUE=DATE-TIME:20220124T130000
DTEND;TZID=Europe/Madrid;VALUE=DATE-TIME:20220124T140000
DTSTAMP;VALUE=DATE-TIME:20260423T090013Z
UID:fab4fb77531821118ae21f42d12a9026
CREATED;VALUE=DATE-TIME:20220124T000000Z
CATEGORIES:Agenda institucional
URL:https://www.canetdemar.cat/document.php?id=22493
END:VEVENT
END:VCALENDAR