BEGIN:VCALENDAR
VERSION:2.0
PRODID:-//Plone.org//NONSGML plone.app.event//EN
X-WR-TIMEZONE:Europe/Madrid
BEGIN:VEVENT
SUMMARY:Consell de Governs Locals
DTSTART;TZID=Europe/Madrid;VALUE=DATE-TIME:20220208T160000
DTEND;TZID=Europe/Madrid;VALUE=DATE-TIME:20220208T170000
DTSTAMP;VALUE=DATE-TIME:20260423T071613Z
UID:debdacbbd7668e8746c5a821d6528d0e
CREATED;VALUE=DATE-TIME:20220208T000000Z
CATEGORIES:Agenda institucional
URL:https://www.canetdemar.cat/document.php?id=22489
END:VEVENT
END:VCALENDAR