BEGIN:VCALENDAR
VERSION:2.0
PRODID:-//Plone.org//NONSGML plone.app.event//EN
X-WR-TIMEZONE:Europe/Madrid
BEGIN:VEVENT
SUMMARY:Reunió d'Alcaldia i Comunicació
DTSTART;TZID=Europe/Madrid;VALUE=DATE-TIME:20220117T113000
DTEND;TZID=Europe/Madrid;VALUE=DATE-TIME:20220117T123000
DTSTAMP;VALUE=DATE-TIME:20260420T052009Z
UID:1d77b45a631041ca446dda3a7b9e4339
CREATED;VALUE=DATE-TIME:20220117T000000Z
CATEGORIES:Agenda institucional
URL:https://www.canetdemar.cat/document.php?id=22486
END:VEVENT
END:VCALENDAR