BEGIN:VCALENDAR
VERSION:2.0
PRODID:-//Plone.org//NONSGML plone.app.event//EN
X-WR-TIMEZONE:Europe/Madrid
BEGIN:VEVENT
SUMMARY:Comissió Ordenances Terrasses
DTSTART;TZID=Europe/Madrid;VALUE=DATE-TIME:20220114T100000
DTEND;TZID=Europe/Madrid;VALUE=DATE-TIME:20220114T110000
DTSTAMP;VALUE=DATE-TIME:20260420T051944Z
UID:b99513b6decf781dfcc88ecd62b4553d
CREATED;VALUE=DATE-TIME:20220114T000000Z
CATEGORIES:Agenda institucional
URL:https://www.canetdemar.cat/document.php?id=22484
END:VEVENT
END:VCALENDAR