BEGIN:VCALENDAR
VERSION:2.0
PRODID:-//Plone.org//NONSGML plone.app.event//EN
X-WR-TIMEZONE:Europe/Madrid
BEGIN:VEVENT
SUMMARY:Presa de possessió de nou personal de l'Ajuntament
DTSTART;TZID=Europe/Madrid;VALUE=DATE-TIME:20220113T133000
DTEND;TZID=Europe/Madrid;VALUE=DATE-TIME:20220113T143000
DTSTAMP;VALUE=DATE-TIME:20260420T133713Z
UID:cfabb4fa2f7d42858aff25a69ebb6c78
CREATED;VALUE=DATE-TIME:20220113T000000Z
CATEGORIES:Agenda institucional
LOCATION:Sala annexa Alcaldia
URL:https://www.canetdemar.cat/document.php?id=22483
END:VEVENT
END:VCALENDAR