BEGIN:VCALENDAR
VERSION:2.0
PRODID:-//Plone.org//NONSGML plone.app.event//EN
X-WR-TIMEZONE:Europe/Madrid
BEGIN:VEVENT
SUMMARY:Reunió de seguiment amb l'Àrea de Jardineria
DTSTART;TZID=Europe/Madrid;VALUE=DATE-TIME:20220324T100000
DTEND;TZID=Europe/Madrid;VALUE=DATE-TIME:20220324T110000
DTSTAMP;VALUE=DATE-TIME:20260420T232502Z
UID:07748e331daf04c5fe84475d43cc62eb
CREATED;VALUE=DATE-TIME:20220324T000000Z
CATEGORIES:Agenda institucional
URL:https://www.canetdemar.cat/document.php?id=22481
END:VEVENT
END:VCALENDAR