BEGIN:VCALENDAR
VERSION:2.0
PRODID:-//Plone.org//NONSGML plone.app.event//EN
X-WR-TIMEZONE:Europe/Madrid
BEGIN:VEVENT
SUMMARY:Reunió de seguiment amb l'Àrea de Jardineria
DTSTART;TZID=Europe/Madrid;VALUE=DATE-TIME:20220317T100000
DTEND;TZID=Europe/Madrid;VALUE=DATE-TIME:20220317T110000
DTSTAMP;VALUE=DATE-TIME:20260420T184814Z
UID:5f37a83c0484b6c82d94f4c506ac251a
CREATED;VALUE=DATE-TIME:20220317T000000Z
CATEGORIES:Agenda institucional
URL:https://www.canetdemar.cat/document.php?id=22480
END:VEVENT
END:VCALENDAR