BEGIN:VCALENDAR
VERSION:2.0
PRODID:-//Plone.org//NONSGML plone.app.event//EN
X-WR-TIMEZONE:Europe/Madrid
BEGIN:VEVENT
SUMMARY:Reunió de seguiment amb l'Àrea de Jardineria
DTSTART;TZID=Europe/Madrid;VALUE=DATE-TIME:20220224T100000
DTEND;TZID=Europe/Madrid;VALUE=DATE-TIME:20220224T110000
DTSTAMP;VALUE=DATE-TIME:20260420T101500Z
UID:3bdd5774d750ebccdf707b6d624b5b9f
CREATED;VALUE=DATE-TIME:20220224T000000Z
CATEGORIES:Agenda institucional
URL:https://www.canetdemar.cat/document.php?id=22477
END:VEVENT
END:VCALENDAR