BEGIN:VCALENDAR
VERSION:2.0
PRODID:-//Plone.org//NONSGML plone.app.event//EN
X-WR-TIMEZONE:Europe/Madrid
BEGIN:VEVENT
SUMMARY:Reunió de seguiment amb l'Àrea de Jardineria
DTSTART;TZID=Europe/Madrid;VALUE=DATE-TIME:20220217T100000
DTEND;TZID=Europe/Madrid;VALUE=DATE-TIME:20220217T110000
DTSTAMP;VALUE=DATE-TIME:20260420T085927Z
UID:100e55bf05d35fe66b6e92c62728ec04
CREATED;VALUE=DATE-TIME:20220217T000000Z
CATEGORIES:Agenda institucional
URL:https://www.canetdemar.cat/document.php?id=22476
END:VEVENT
END:VCALENDAR