BEGIN:VCALENDAR
VERSION:2.0
PRODID:-//Plone.org//NONSGML plone.app.event//EN
X-WR-TIMEZONE:Europe/Madrid
BEGIN:VEVENT
SUMMARY:Reunió de seguiment amb l'Àrea de Jardineria
DTSTART;TZID=Europe/Madrid;VALUE=DATE-TIME:20220120T100000
DTEND;TZID=Europe/Madrid;VALUE=DATE-TIME:20220120T110000
DTSTAMP;VALUE=DATE-TIME:20260420T034317Z
UID:0c521d165796347cd77e65cbfc4a041f
CREATED;VALUE=DATE-TIME:20220120T000000Z
CATEGORIES:Agenda institucional
URL:https://www.canetdemar.cat/document.php?id=22472
END:VEVENT
END:VCALENDAR