BEGIN:VCALENDAR
VERSION:2.0
PRODID:-//Plone.org//NONSGML plone.app.event//EN
X-WR-TIMEZONE:Europe/Madrid
BEGIN:VEVENT
SUMMARY:Reunió de seguiment amb l'Àrea de Brigada d'Obres i Serveis
DTSTART;TZID=Europe/Madrid;VALUE=DATE-TIME:20220331T080000
DTEND;TZID=Europe/Madrid;VALUE=DATE-TIME:20220331T090000
DTSTAMP;VALUE=DATE-TIME:20260420T153105Z
UID:47b854f0c1494362761d1528e7869e40
CREATED;VALUE=DATE-TIME:20220331T000000Z
CATEGORIES:Agenda institucional
LOCATION:Nau de la Brigada
URL:https://www.canetdemar.cat/document.php?id=22470
END:VEVENT
END:VCALENDAR