BEGIN:VCALENDAR
VERSION:2.0
PRODID:-//Plone.org//NONSGML plone.app.event//EN
X-WR-TIMEZONE:Europe/Madrid
BEGIN:VEVENT
SUMMARY:Reunió de seguiment amb l'Àrea de Brigada d'Obres i Serveis
DTSTART;TZID=Europe/Madrid;VALUE=DATE-TIME:20220317T080000
DTEND;TZID=Europe/Madrid;VALUE=DATE-TIME:20220317T090000
DTSTAMP;VALUE=DATE-TIME:20260420T170533Z
UID:2aadb6e9c8b10db031f8d0c838e12044
CREATED;VALUE=DATE-TIME:20220317T000000Z
CATEGORIES:Agenda institucional
LOCATION:Nau de la Brigada
URL:https://www.canetdemar.cat/document.php?id=22468
END:VEVENT
END:VCALENDAR