BEGIN:VCALENDAR
VERSION:2.0
PRODID:-//Plone.org//NONSGML plone.app.event//EN
X-WR-TIMEZONE:Europe/Madrid
BEGIN:VEVENT
SUMMARY:Reunió de seguiment amb l'Àrea de Brigada d'Obres i Serveis
DTSTART;TZID=Europe/Madrid;VALUE=DATE-TIME:20220310T080000
DTEND;TZID=Europe/Madrid;VALUE=DATE-TIME:20220310T090000
DTSTAMP;VALUE=DATE-TIME:20260420T135812Z
UID:123cdd6a3e64cd6ea59d1b972bb0cd5a
CREATED;VALUE=DATE-TIME:20220310T000000Z
CATEGORIES:Agenda institucional
LOCATION:Nau de la Brigada
URL:https://www.canetdemar.cat/document.php?id=22467
END:VEVENT
END:VCALENDAR