BEGIN:VCALENDAR
VERSION:2.0
PRODID:-//Plone.org//NONSGML plone.app.event//EN
X-WR-TIMEZONE:Europe/Madrid
BEGIN:VEVENT
SUMMARY:Reunió de seguiment amb l'Àrea de Brigada d'Obres i Serveis
DTSTART;TZID=Europe/Madrid;VALUE=DATE-TIME:20220303T080000
DTEND;TZID=Europe/Madrid;VALUE=DATE-TIME:20220303T090000
DTSTAMP;VALUE=DATE-TIME:20260420T122027Z
UID:42612b5ef080893bc1090f433b909aa3
CREATED;VALUE=DATE-TIME:20220303T000000Z
CATEGORIES:Agenda institucional
LOCATION:Nau de la Brigada
URL:https://www.canetdemar.cat/document.php?id=22466
END:VEVENT
END:VCALENDAR