BEGIN:VCALENDAR
VERSION:2.0
PRODID:-//Plone.org//NONSGML plone.app.event//EN
X-WR-TIMEZONE:Europe/Madrid
BEGIN:VEVENT
SUMMARY:Reunió de seguiment amb l'Àrea de Brigada d'Obres i Serveis
DTSTART;TZID=Europe/Madrid;VALUE=DATE-TIME:20220224T080000
DTEND;TZID=Europe/Madrid;VALUE=DATE-TIME:20220224T090000
DTSTAMP;VALUE=DATE-TIME:20260425T042417Z
UID:ca07191979bc43fb113e877aa7962de1
CREATED;VALUE=DATE-TIME:20220224T000000Z
CATEGORIES:Agenda institucional
LOCATION:Nau de la Brigada
URL:https://www.canetdemar.cat/document.php?id=22465
END:VEVENT
END:VCALENDAR