BEGIN:VCALENDAR
VERSION:2.0
PRODID:-//Plone.org//NONSGML plone.app.event//EN
X-WR-TIMEZONE:Europe/Madrid
BEGIN:VEVENT
SUMMARY:Reunió de seguiment amb l'Àrea de Brigada d'Obres i Serveis
DTSTART;TZID=Europe/Madrid;VALUE=DATE-TIME:20220217T080000
DTEND;TZID=Europe/Madrid;VALUE=DATE-TIME:20220217T090000
DTSTAMP;VALUE=DATE-TIME:20260420T074029Z
UID:45929b20f2f90c0200462c25a44cb0ec
CREATED;VALUE=DATE-TIME:20220217T000000Z
CATEGORIES:Agenda institucional
LOCATION:Nau de la Brigada
URL:https://www.canetdemar.cat/document.php?id=22464
END:VEVENT
END:VCALENDAR