BEGIN:VCALENDAR
VERSION:2.0
PRODID:-//Plone.org//NONSGML plone.app.event//EN
X-WR-TIMEZONE:Europe/Madrid
BEGIN:VEVENT
SUMMARY:Reunió de seguiment amb l'Àrea de Brigada d'Obres i Serveis
DTSTART;TZID=Europe/Madrid;VALUE=DATE-TIME:20220210T080000
DTEND;TZID=Europe/Madrid;VALUE=DATE-TIME:20220210T090000
DTSTAMP;VALUE=DATE-TIME:20260420T034302Z
UID:f028ac15e94a3e9b63aeade3d87d93d5
CREATED;VALUE=DATE-TIME:20220210T000000Z
CATEGORIES:Agenda institucional
LOCATION:Nau de la Brigada
URL:https://www.canetdemar.cat/document.php?id=22463
END:VEVENT
END:VCALENDAR