BEGIN:VCALENDAR
VERSION:2.0
PRODID:-//Plone.org//NONSGML plone.app.event//EN
X-WR-TIMEZONE:Europe/Madrid
BEGIN:VEVENT
SUMMARY:Reunió de seguiment amb l'Àrea de Brigada d'Obres i Serveis
DTSTART;TZID=Europe/Madrid;VALUE=DATE-TIME:20220203T080000
DTEND;TZID=Europe/Madrid;VALUE=DATE-TIME:20220203T090000
DTSTAMP;VALUE=DATE-TIME:20260420T003419Z
UID:2c28eb7ae2b3b8da4872e1b682ff3dce
CREATED;VALUE=DATE-TIME:20220203T000000Z
CATEGORIES:Agenda institucional
LOCATION:Nau de la Brigada
URL:https://www.canetdemar.cat/document.php?id=22462
END:VEVENT
END:VCALENDAR