BEGIN:VCALENDAR
VERSION:2.0
PRODID:-//Plone.org//NONSGML plone.app.event//EN
X-WR-TIMEZONE:Europe/Madrid
BEGIN:VEVENT
SUMMARY:Reunió de seguiment amb l'Àrea de Brigada d'Obres i Serveis
DTSTART;TZID=Europe/Madrid;VALUE=DATE-TIME:20220127T080000
DTEND;TZID=Europe/Madrid;VALUE=DATE-TIME:20220127T090000
DTSTAMP;VALUE=DATE-TIME:20260420T104128Z
UID:a7499b3872e333e8e32310e96e90cb75
CREATED;VALUE=DATE-TIME:20220127T000000Z
CATEGORIES:Agenda institucional
LOCATION:Nau de la Brigada
URL:https://www.canetdemar.cat/document.php?id=22461
END:VEVENT
END:VCALENDAR