BEGIN:VCALENDAR
VERSION:2.0
PRODID:-//Plone.org//NONSGML plone.app.event//EN
X-WR-TIMEZONE:Europe/Madrid
BEGIN:VEVENT
SUMMARY:Reunió de seguiment amb l'Àrea de Brigada d'Obres i Serveis
DTSTART;TZID=Europe/Madrid;VALUE=DATE-TIME:20220120T080000
DTEND;TZID=Europe/Madrid;VALUE=DATE-TIME:20220120T090000
DTSTAMP;VALUE=DATE-TIME:20260423T054047Z
UID:eb7c3eba88180a7e85d1ba7a1db61e96
CREATED;VALUE=DATE-TIME:20220120T000000Z
CATEGORIES:Agenda institucional
LOCATION:Nau de la Brigada
URL:https://www.canetdemar.cat/document.php?id=22460
END:VEVENT
END:VCALENDAR