BEGIN:VCALENDAR
VERSION:2.0
PRODID:-//Plone.org//NONSGML plone.app.event//EN
X-WR-TIMEZONE:Europe/Madrid
BEGIN:VEVENT
SUMMARY:Reunió de seguiment amb l'Àrea de Brigada d'Obres i Serveis
DTSTART;TZID=Europe/Madrid;VALUE=DATE-TIME:20220113T080000
DTEND;TZID=Europe/Madrid;VALUE=DATE-TIME:20220113T090000
DTSTAMP;VALUE=DATE-TIME:20260420T051958Z
UID:49e10a0641c2154782d1ed54a5d8e467
CREATED;VALUE=DATE-TIME:20220113T000000Z
CATEGORIES:Agenda institucional
LOCATION:Nau de la Brigada
URL:https://www.canetdemar.cat/document.php?id=22459
END:VEVENT
END:VCALENDAR