BEGIN:VCALENDAR
VERSION:2.0
PRODID:-//Plone.org//NONSGML plone.app.event//EN
X-WR-TIMEZONE:Europe/Madrid
BEGIN:VEVENT
SUMMARY:Passejada Matinal per la Nevera del Maresme
DTSTART;TZID=Europe/Madrid;VALUE=DATE-TIME:20220213T090000
DTEND;TZID=Europe/Madrid;VALUE=DATE-TIME:20220213T100000
DTSTAMP;VALUE=DATE-TIME:20260423T105433Z
UID:28d84dccdead165c5aa67bdd2a86ba6f
CREATED;VALUE=DATE-TIME:20220213T000000Z
CATEGORIES:Esports
LOCATION:Riera Gavarra (davant de Comediants)
ORGANIZER:Fot-li Castanya / Associació Cultural Plataforma Odéon amb la col.laboració de l'Ajuntament de Canet de Mar
COMMENT:Durada: 4 hores
DESCRIPTION:Caminada popular
URL:https://www.canetdemar.cat/document.php?id=22456
END:VEVENT
END:VCALENDAR