BEGIN:VCALENDAR
VERSION:2.0
PRODID:-//Plone.org//NONSGML plone.app.event//EN
X-WR-TIMEZONE:Europe/Madrid
BEGIN:VEVENT
SUMMARY:Reunió amb el regidor Xirau
DTSTART;TZID=Europe/Madrid;VALUE=DATE-TIME:20220323T100000
DTEND;TZID=Europe/Madrid;VALUE=DATE-TIME:20220323T110000
DTSTAMP;VALUE=DATE-TIME:20260420T203243Z
UID:8d72706eaf4c0608edcee004cc471e0a
CREATED;VALUE=DATE-TIME:20220323T000000Z
CATEGORIES:Agenda institucional
URL:https://www.canetdemar.cat/document.php?id=22450
END:VEVENT
END:VCALENDAR