BEGIN:VCALENDAR
VERSION:2.0
PRODID:-//Plone.org//NONSGML plone.app.event//EN
X-WR-TIMEZONE:Europe/Madrid
BEGIN:VEVENT
SUMMARY:Reunió amb el regidor Xirau
DTSTART;TZID=Europe/Madrid;VALUE=DATE-TIME:20220316T100000
DTEND;TZID=Europe/Madrid;VALUE=DATE-TIME:20220316T110000
DTSTAMP;VALUE=DATE-TIME:20260420T170604Z
UID:e9a1df81ca7c45af2e3d4671e7a8fed6
CREATED;VALUE=DATE-TIME:20220316T000000Z
CATEGORIES:Agenda institucional
URL:https://www.canetdemar.cat/document.php?id=22449
END:VEVENT
END:VCALENDAR