BEGIN:VCALENDAR
VERSION:2.0
PRODID:-//Plone.org//NONSGML plone.app.event//EN
X-WR-TIMEZONE:Europe/Madrid
BEGIN:VEVENT
SUMMARY:Reunió amb el regidor Xirau
DTSTART;TZID=Europe/Madrid;VALUE=DATE-TIME:20220309T100000
DTEND;TZID=Europe/Madrid;VALUE=DATE-TIME:20220309T110000
DTSTAMP;VALUE=DATE-TIME:20260420T152001Z
UID:e736cf73351462087257eed6929a3637
CREATED;VALUE=DATE-TIME:20220309T000000Z
CATEGORIES:Agenda institucional
URL:https://www.canetdemar.cat/document.php?id=22448
END:VEVENT
END:VCALENDAR