BEGIN:VCALENDAR
VERSION:2.0
PRODID:-//Plone.org//NONSGML plone.app.event//EN
X-WR-TIMEZONE:Europe/Madrid
BEGIN:VEVENT
SUMMARY:Reunió amb el regidor Xirau
DTSTART;TZID=Europe/Madrid;VALUE=DATE-TIME:20220302T100000
DTEND;TZID=Europe/Madrid;VALUE=DATE-TIME:20220302T110000
DTSTAMP;VALUE=DATE-TIME:20260420T074110Z
UID:556c5915fcceeb3bb93c5e2b6870fded
CREATED;VALUE=DATE-TIME:20220302T000000Z
CATEGORIES:Agenda institucional
URL:https://www.canetdemar.cat/document.php?id=22447
END:VEVENT
END:VCALENDAR