BEGIN:VCALENDAR
VERSION:2.0
PRODID:-//Plone.org//NONSGML plone.app.event//EN
X-WR-TIMEZONE:Europe/Madrid
BEGIN:VEVENT
SUMMARY:Reunió amb el regidor Xirau
DTSTART;TZID=Europe/Madrid;VALUE=DATE-TIME:20220223T100000
DTEND;TZID=Europe/Madrid;VALUE=DATE-TIME:20220223T110000
DTSTAMP;VALUE=DATE-TIME:20260420T052054Z
UID:8453339fce17811446a2217c4dee6fd3
CREATED;VALUE=DATE-TIME:20220223T000000Z
CATEGORIES:Agenda institucional
URL:https://www.canetdemar.cat/document.php?id=22446
END:VEVENT
END:VCALENDAR