BEGIN:VCALENDAR
VERSION:2.0
PRODID:-//Plone.org//NONSGML plone.app.event//EN
X-WR-TIMEZONE:Europe/Madrid
BEGIN:VEVENT
SUMMARY:Reunió amb el regidor Xirau
DTSTART;TZID=Europe/Madrid;VALUE=DATE-TIME:20220216T100000
DTEND;TZID=Europe/Madrid;VALUE=DATE-TIME:20220216T110000
DTSTAMP;VALUE=DATE-TIME:20260420T072104Z
UID:cecd832785f04d0676f3076feddd26dd
CREATED;VALUE=DATE-TIME:20220216T000000Z
CATEGORIES:Agenda institucional
URL:https://www.canetdemar.cat/document.php?id=22445
END:VEVENT
END:VCALENDAR