BEGIN:VCALENDAR
VERSION:2.0
PRODID:-//Plone.org//NONSGML plone.app.event//EN
X-WR-TIMEZONE:Europe/Madrid
BEGIN:VEVENT
SUMMARY:Reunió amb el regidor Xirau
DTSTART;TZID=Europe/Madrid;VALUE=DATE-TIME:20220209T100000
DTEND;TZID=Europe/Madrid;VALUE=DATE-TIME:20220209T110000
DTSTAMP;VALUE=DATE-TIME:20260420T133801Z
UID:09ab3db98efb8952d5c8a3c73fd23593
CREATED;VALUE=DATE-TIME:20220209T000000Z
CATEGORIES:Agenda institucional
URL:https://www.canetdemar.cat/document.php?id=22444
END:VEVENT
END:VCALENDAR