BEGIN:VCALENDAR
VERSION:2.0
PRODID:-//Plone.org//NONSGML plone.app.event//EN
X-WR-TIMEZONE:Europe/Madrid
BEGIN:VEVENT
SUMMARY:Reunió amb el regidor Xirau
DTSTART;TZID=Europe/Madrid;VALUE=DATE-TIME:20220126T100000
DTEND;TZID=Europe/Madrid;VALUE=DATE-TIME:20220126T110000
DTSTAMP;VALUE=DATE-TIME:20260420T083734Z
UID:10e85a97a6c9b866fc9039a7e1667f1d
CREATED;VALUE=DATE-TIME:20220126T000000Z
CATEGORIES:Agenda institucional
URL:https://www.canetdemar.cat/document.php?id=22443
END:VEVENT
END:VCALENDAR