BEGIN:VCALENDAR
VERSION:2.0
PRODID:-//Plone.org//NONSGML plone.app.event//EN
X-WR-TIMEZONE:Europe/Madrid
BEGIN:VEVENT
SUMMARY:Reunió protocol i comunicació
DTSTART;TZID=Europe/Madrid;VALUE=DATE-TIME:20220110T110000
DTEND;TZID=Europe/Madrid;VALUE=DATE-TIME:20220110T120000
DTSTAMP;VALUE=DATE-TIME:20260420T050348Z
UID:f6700f8f0782c298ffc7428e4469e1c8
CREATED;VALUE=DATE-TIME:20220110T000000Z
CATEGORIES:Agenda institucional
URL:https://www.canetdemar.cat/document.php?id=22439
END:VEVENT
END:VCALENDAR