BEGIN:VCALENDAR
VERSION:2.0
PRODID:-//Plone.org//NONSGML plone.app.event//EN
X-WR-TIMEZONE:Europe/Madrid
BEGIN:VEVENT
SUMMARY:Entrega de la clau de la vila a Ses Majestats
DTSTART;TZID=Europe/Madrid;VALUE=DATE-TIME:20220105T193000
DTEND;TZID=Europe/Madrid;VALUE=DATE-TIME:20220105T203000
DTSTAMP;VALUE=DATE-TIME:20260420T015408Z
UID:576099ed8156b5d36e7c036f50c23643
CREATED;VALUE=DATE-TIME:20220105T000000Z
CATEGORIES:Agenda institucional
LOCATION:Biblioteca P. Gual i Pujadas
URL:https://www.canetdemar.cat/document.php?id=22438
END:VEVENT
END:VCALENDAR