BEGIN:VCALENDAR
VERSION:2.0
PRODID:-//Plone.org//NONSGML plone.app.event//EN
X-WR-TIMEZONE:Europe/Madrid
BEGIN:VEVENT
SUMMARY:Entrevista per directe de la cavalcada de reis
DTSTART;TZID=Europe/Madrid;VALUE=DATE-TIME:20220105T174500
DTEND;TZID=Europe/Madrid;VALUE=DATE-TIME:20220105T184500
DTSTAMP;VALUE=DATE-TIME:20260420T033423Z
UID:043f3e908dc1bb7788ca5df4b64d0b6c
CREATED;VALUE=DATE-TIME:20220105T000000Z
CATEGORIES:Agenda institucional
LOCATION:Riera del Pinar
URL:https://www.canetdemar.cat/document.php?id=22437
END:VEVENT
END:VCALENDAR